BEGIN:VCALENDAR
VERSION:2.0
PRODID:-//Charlotte Mason College - ECPv5.0.2.1//NONSGML v1.0//EN
CALSCALE:GREGORIAN
METHOD:PUBLISH
X-WR-CALNAME:Charlotte Mason College
X-ORIGINAL-URL:https://cmc.qld.edu.au
X-WR-CALDESC:Events for Charlotte Mason College
BEGIN:VTIMEZONE
TZID:Europe/Paris
BEGIN:DAYLIGHT
TZOFFSETFROM:+0100
TZOFFSETTO:+0200
TZNAME:CEST
DTSTART:20180325T010000
END:DAYLIGHT
BEGIN:STANDARD
TZOFFSETFROM:+0200
TZOFFSETTO:+0100
TZNAME:CET
DTSTART:20181028T010000
END:STANDARD
END:VTIMEZONE
BEGIN:VEVENT
DTSTART;VALUE=DATE:20180808
DTEND;VALUE=DATE:20180811
DTSTAMP:20200301T222134
CREATED:20180730T060257Z
LAST-MODIFIED:20180730T085253Z
UID:2752-1533686400-1533945599@cmc.qld.edu.au
SUMMARY:Emu Gully Camp
DESCRIPTION:We are very excited to announce our very first High School Camp!\nWhen: 8th-10th August 2018\nAges: Grades 7-12\nWhere: Emu Gully Adventure Education Group\n142 Twidales Road\, Helidon Spa\, QLD 4344\nCost: $267.30 per student (including food) \nParents can attend as carers if they choose\, but are not able to participate in the activities.\nCost per parent is $84 \n.fusion-button.button-1 {border-radius:0px;}Download Flyer.fusion-button.button-2 {border-radius:0px;}Consent Form.fusion-button.button-3 {border-radius:0px;}Photo Consent Form\n
URL:https://cmc.qld.edu.au/event/emu-gully-camp/
LOCATION:Emu Gully ADventure Education\, 142 Twidales Rd\, Helidon Spa\, QLD\, 4344\, Australia
ATTACH;FMTTYPE=image/jpeg:https://cmc.qld.edu.au/wp-content/uploads/2018/07/EmuGully.jpg
END:VEVENT
END:VCALENDAR